BEGIN:VCALENDAR
VERSION:2.0
PRODID:-//Escuela Naturalmente - ECPv6.15.20//NONSGML v1.0//EN
CALSCALE:GREGORIAN
METHOD:PUBLISH
X-ORIGINAL-URL:https://www.escuelanaturalmente.com
X-WR-CALDESC:Eventos para Escuela Naturalmente
REFRESH-INTERVAL;VALUE=DURATION:PT1H
X-Robots-Tag:noindex
X-PUBLISHED-TTL:PT1H
BEGIN:VTIMEZONE
TZID:UTC
BEGIN:STANDARD
TZOFFSETFROM:+0000
TZOFFSETTO:+0000
TZNAME:UTC
DTSTART:20230101T000000
END:STANDARD
END:VTIMEZONE
BEGIN:VEVENT
DTSTART;TZID=UTC:20240129T090000
DTEND;TZID=UTC:20240129T140000
DTSTAMP:20260423T023243
CREATED:20231201T155229Z
LAST-MODIFIED:20231201T155229Z
UID:96-1706518800-1706536800@www.escuelanaturalmente.com
SUMMARY:Curso de quiromasaje general y aromaterapia en Sevilla
DESCRIPTION:¿En qué consiste el curso de quiromasaje general?\nEl curso de quiromasaje general es un curso de 4 meses\, es una formación diseñada para todas aquellas personas que quieran iniciarse en el mundo de las terapias manuales y naturales. \nCon este curso el alumno estará capacitado para poder desarrollar una actividad laboral en balnearios\, spas\, hoteles y centros de terapias naturales. \nNo es necesario tener conocimientos previos para poder realizar esta formación. \nEs un curso teórico-práctico. \nEs un curso también diseñado para continuar tu formación profesional\, puedes incorporarte al curso de quiromasaje general\, convalidando el temario y el dinero invertido. \nAdemás regalamos el curso de aromaterapia\, para su aplicación en el masaje relajante y otras muchas disciplinas naturales. \n  \nNuestro curso de quiromasaje general en Sevilla\nEl curso se realizará de enero a abril (4 meses). \nSe impartirá los lunes en horario de 9:00 a 14:00 o martes tarde de 17:00 a 22:00\, puedes elegir el día que mejor te convenga\, siempre pudiendo cambiar de grupo de forma puntual o definitiva al otro grupo. \nEl curso comenzará el lunes 22 de enero en horario de mañana y el martes 23 en horario de tarde \n\nMatrícula 100€\, pero si formalizas antes del 7 de enero de 2024\, tendrás un descuento del 60%\, por lo que se quedaría en 60€. Del 8 al 12 de enero\, el descuento será del 40%\n\n\n\nLas mensualidades son 130€\, pero si estás desempleado o eres familia numerosa tendrás un 10% de descuento en todas las mensualidades.\n\nPlazas limitadas: Por estricto orden de matriculación\n\n\n\n\nPara ver toda la información sobre este curso\, visita nuestra web https://www.escuelanaturalmente.com/cursos/curso-de-quiromasaje-relajante-en-sevilla/\n\nPara más información llámanos o mándanos un whatsapp al 639424470\, también puedes enviarnos un email a info@escuelanaturalmente.com \nTambién puedes seguirnos en FACEBOOK\, INSTAGRAM o X. \nCurso de quiromasaje general en Sevilla
URL:https://www.escuelanaturalmente.com/event/curso-de-quiromasaje-general-y-aromaterapia-en-sevilla/
LOCATION:Centro de Formación Naturalmente Sevilla\, Avenida de Hytasa\, 38. Edificio Toledo\, 1\, Planta 1°\, Módulo 10\, SEVILLA\, SEVILLA\, 41006\, España
CATEGORIES:Cursos profesionales
ATTACH;FMTTYPE=image/jpeg:https://www.escuelanaturalmente.com/wp-content/uploads/2023/12/Curso-de-quiromasaj-general.jpg
ORGANIZER;CN="Centro de Formaci%C3%B3n Naturalmente":MAILTO:info@escuelanaturalmente.com
END:VEVENT
BEGIN:VEVENT
DTSTART;TZID=UTC:20240122T090000
DTEND;TZID=UTC:20240122T140000
DTSTAMP:20260423T023243
CREATED:20231205T231058Z
LAST-MODIFIED:20231205T233757Z
UID:159-1705914000-1705932000@www.escuelanaturalmente.com
SUMMARY:Curso de quiromasaje general y aromaterapia en Huelva
DESCRIPTION:¿En qué consiste el curso de quiromasaje general?\nEl curso de quiromasaje general es un curso de 4 meses\, es una formación diseñada para todas aquellas personas que quieran iniciarse en el mundo de las terapias manuales y naturales. \nCon este curso el alumno estará capacitado para poder desarrollar una actividad laboral en balnearios\, spas\, hoteles y centros de terapias naturales. \nNo es necesario tener conocimientos previos para poder realizar esta formación. \nEs un curso teórico-práctico. \nEs un curso también diseñado para continuar tu formación profesional\, puedes incorporarte al curso de quiromasaje general\, convalidando el temario y el dinero invertido. \nAdemás regalamos el curso de aromaterapia\, para su aplicación en el masaje relajante y otras muchas disciplinas naturales. \n  \nNuestro curso de quiromasaje general y aromaterapia en Huelva\nEl curso se realizará de enero a abril (4 meses). \nSe impartirá los lunes en horario de 17:00 a 22:00 o jueves mañana de 9:00 a 14:00\, puedes elegir el día que mejor te convenga\, siempre pudiendo cambiar de grupo de forma puntual o definitiva al otro grupo. \nEl curso comenzará el lunes 22 de enero en horario de mañana y el jueves 25 en horario de mañana \n\nMatrícula 100€\, pero si formalizas antes del 7 de enero de 2024\, tendrás un descuento del 60%\, por lo que se quedaría en 60€. Del 8 al 12 de enero\, el descuento será del 40%\n\n\n\nLas mensualidades son 130€\, pero si estás desempleado o eres familia numerosa tendrás un 10% de descuento en todas las mensualidades.\n\nPlazas limitadas: Por estricto orden de matriculación\n\n\n\n\nPara ver toda la información sobre este curso\, visita nuestra web https://www.escuelanaturalmente.com/cursos/curso-de-quiromasaje-relajante-en-Huelva/\n\nPara más información llámanos o mándanos un whatsapp al 639424470\, también puedes enviarnos un email a info@escuelanaturalmente.com \nTambién puedes seguirnos en FACEBOOK\, INSTAGRAM o X. \nCURSO DE QUIROMASAJE GENERAL HUELVA
URL:https://www.escuelanaturalmente.com/event/curso-de-quiromasaje-general-y-aromaterapia-en-huelva/
LOCATION:Centro de Formación Naturalmente Huelva\, Martín Alonso Pinzón\, 15\, Edificio Parque América. Entreplanta Locales 4 y 5.\, Huelva\, Huelva\, 21003
CATEGORIES:Cursos profesionales
ATTACH;FMTTYPE=image/jpeg:https://www.escuelanaturalmente.com/wp-content/uploads/2023/12/CURSO-DE-QUIROMASAJE-GENERAL-HUELVA.jpg
ORGANIZER;CN="Centro de Formaci%C3%B3n Naturalmente":MAILTO:info@escuelanaturalmente.com
END:VEVENT
BEGIN:VEVENT
DTSTART;TZID=UTC:20240129T090000
DTEND;TZID=UTC:20240129T140000
DTSTAMP:20260423T023243
CREATED:20231201T155229Z
LAST-MODIFIED:20231201T155229Z
UID:96-1706518800-1706536800@www.escuelanaturalmente.com
SUMMARY:Curso de quiromasaje general y aromaterapia en Sevilla
DESCRIPTION:¿En qué consiste el curso de quiromasaje general?\nEl curso de quiromasaje general es un curso de 4 meses\, es una formación diseñada para todas aquellas personas que quieran iniciarse en el mundo de las terapias manuales y naturales. \nCon este curso el alumno estará capacitado para poder desarrollar una actividad laboral en balnearios\, spas\, hoteles y centros de terapias naturales. \nNo es necesario tener conocimientos previos para poder realizar esta formación. \nEs un curso teórico-práctico. \nEs un curso también diseñado para continuar tu formación profesional\, puedes incorporarte al curso de quiromasaje general\, convalidando el temario y el dinero invertido. \nAdemás regalamos el curso de aromaterapia\, para su aplicación en el masaje relajante y otras muchas disciplinas naturales. \n  \nNuestro curso de quiromasaje general en Sevilla\nEl curso se realizará de enero a abril (4 meses). \nSe impartirá los lunes en horario de 9:00 a 14:00 o martes tarde de 17:00 a 22:00\, puedes elegir el día que mejor te convenga\, siempre pudiendo cambiar de grupo de forma puntual o definitiva al otro grupo. \nEl curso comenzará el lunes 22 de enero en horario de mañana y el martes 23 en horario de tarde \n\nMatrícula 100€\, pero si formalizas antes del 7 de enero de 2024\, tendrás un descuento del 60%\, por lo que se quedaría en 60€. Del 8 al 12 de enero\, el descuento será del 40%\n\n\n\nLas mensualidades son 130€\, pero si estás desempleado o eres familia numerosa tendrás un 10% de descuento en todas las mensualidades.\n\nPlazas limitadas: Por estricto orden de matriculación\n\n\n\n\nPara ver toda la información sobre este curso\, visita nuestra web https://www.escuelanaturalmente.com/cursos/curso-de-quiromasaje-relajante-en-sevilla/\n\nPara más información llámanos o mándanos un whatsapp al 639424470\, también puedes enviarnos un email a info@escuelanaturalmente.com \nTambién puedes seguirnos en FACEBOOK\, INSTAGRAM o X. \nCurso de quiromasaje general en Sevilla
URL:https://www.escuelanaturalmente.com/event/curso-de-quiromasaje-general-y-aromaterapia-en-sevilla/
LOCATION:Centro de Formación Naturalmente Sevilla\, Avenida de Hytasa\, 38. Edificio Toledo\, 1\, Planta 1°\, Módulo 10\, SEVILLA\, SEVILLA\, 41006\, España
CATEGORIES:Cursos profesionales
ATTACH;FMTTYPE=image/jpeg:https://www.escuelanaturalmente.com/wp-content/uploads/2023/12/Curso-de-quiromasaj-general.jpg
ORGANIZER;CN="Centro de Formaci%C3%B3n Naturalmente":MAILTO:info@escuelanaturalmente.com
END:VEVENT
BEGIN:VEVENT
DTSTART;TZID=UTC:20240122T090000
DTEND;TZID=UTC:20240122T140000
DTSTAMP:20260423T023243
CREATED:20231205T231058Z
LAST-MODIFIED:20231205T233757Z
UID:159-1705914000-1705932000@www.escuelanaturalmente.com
SUMMARY:Curso de quiromasaje general y aromaterapia en Huelva
DESCRIPTION:¿En qué consiste el curso de quiromasaje general?\nEl curso de quiromasaje general es un curso de 4 meses\, es una formación diseñada para todas aquellas personas que quieran iniciarse en el mundo de las terapias manuales y naturales. \nCon este curso el alumno estará capacitado para poder desarrollar una actividad laboral en balnearios\, spas\, hoteles y centros de terapias naturales. \nNo es necesario tener conocimientos previos para poder realizar esta formación. \nEs un curso teórico-práctico. \nEs un curso también diseñado para continuar tu formación profesional\, puedes incorporarte al curso de quiromasaje general\, convalidando el temario y el dinero invertido. \nAdemás regalamos el curso de aromaterapia\, para su aplicación en el masaje relajante y otras muchas disciplinas naturales. \n  \nNuestro curso de quiromasaje general y aromaterapia en Huelva\nEl curso se realizará de enero a abril (4 meses). \nSe impartirá los lunes en horario de 17:00 a 22:00 o jueves mañana de 9:00 a 14:00\, puedes elegir el día que mejor te convenga\, siempre pudiendo cambiar de grupo de forma puntual o definitiva al otro grupo. \nEl curso comenzará el lunes 22 de enero en horario de mañana y el jueves 25 en horario de mañana \n\nMatrícula 100€\, pero si formalizas antes del 7 de enero de 2024\, tendrás un descuento del 60%\, por lo que se quedaría en 60€. Del 8 al 12 de enero\, el descuento será del 40%\n\n\n\nLas mensualidades son 130€\, pero si estás desempleado o eres familia numerosa tendrás un 10% de descuento en todas las mensualidades.\n\nPlazas limitadas: Por estricto orden de matriculación\n\n\n\n\nPara ver toda la información sobre este curso\, visita nuestra web https://www.escuelanaturalmente.com/cursos/curso-de-quiromasaje-relajante-en-Huelva/\n\nPara más información llámanos o mándanos un whatsapp al 639424470\, también puedes enviarnos un email a info@escuelanaturalmente.com \nTambién puedes seguirnos en FACEBOOK\, INSTAGRAM o X. \nCURSO DE QUIROMASAJE GENERAL HUELVA
URL:https://www.escuelanaturalmente.com/event/curso-de-quiromasaje-general-y-aromaterapia-en-huelva/
LOCATION:Centro de Formación Naturalmente Huelva\, Martín Alonso Pinzón\, 15\, Edificio Parque América. Entreplanta Locales 4 y 5.\, Huelva\, Huelva\, 21003
CATEGORIES:Cursos profesionales
ATTACH;FMTTYPE=image/jpeg:https://www.escuelanaturalmente.com/wp-content/uploads/2023/12/CURSO-DE-QUIROMASAJE-GENERAL-HUELVA.jpg
ORGANIZER;CN="Centro de Formaci%C3%B3n Naturalmente":MAILTO:info@escuelanaturalmente.com
END:VEVENT
BEGIN:VEVENT
DTSTART;TZID=UTC:20240129T090000
DTEND;TZID=UTC:20240129T140000
DTSTAMP:20260423T023243
CREATED:20231201T155229Z
LAST-MODIFIED:20231201T155229Z
UID:96-1706518800-1706536800@www.escuelanaturalmente.com
SUMMARY:Curso de quiromasaje general y aromaterapia en Sevilla
DESCRIPTION:¿En qué consiste el curso de quiromasaje general?\nEl curso de quiromasaje general es un curso de 4 meses\, es una formación diseñada para todas aquellas personas que quieran iniciarse en el mundo de las terapias manuales y naturales. \nCon este curso el alumno estará capacitado para poder desarrollar una actividad laboral en balnearios\, spas\, hoteles y centros de terapias naturales. \nNo es necesario tener conocimientos previos para poder realizar esta formación. \nEs un curso teórico-práctico. \nEs un curso también diseñado para continuar tu formación profesional\, puedes incorporarte al curso de quiromasaje general\, convalidando el temario y el dinero invertido. \nAdemás regalamos el curso de aromaterapia\, para su aplicación en el masaje relajante y otras muchas disciplinas naturales. \n  \nNuestro curso de quiromasaje general en Sevilla\nEl curso se realizará de enero a abril (4 meses). \nSe impartirá los lunes en horario de 9:00 a 14:00 o martes tarde de 17:00 a 22:00\, puedes elegir el día que mejor te convenga\, siempre pudiendo cambiar de grupo de forma puntual o definitiva al otro grupo. \nEl curso comenzará el lunes 22 de enero en horario de mañana y el martes 23 en horario de tarde \n\nMatrícula 100€\, pero si formalizas antes del 7 de enero de 2024\, tendrás un descuento del 60%\, por lo que se quedaría en 60€. Del 8 al 12 de enero\, el descuento será del 40%\n\n\n\nLas mensualidades son 130€\, pero si estás desempleado o eres familia numerosa tendrás un 10% de descuento en todas las mensualidades.\n\nPlazas limitadas: Por estricto orden de matriculación\n\n\n\n\nPara ver toda la información sobre este curso\, visita nuestra web https://www.escuelanaturalmente.com/cursos/curso-de-quiromasaje-relajante-en-sevilla/\n\nPara más información llámanos o mándanos un whatsapp al 639424470\, también puedes enviarnos un email a info@escuelanaturalmente.com \nTambién puedes seguirnos en FACEBOOK\, INSTAGRAM o X. \nCurso de quiromasaje general en Sevilla
URL:https://www.escuelanaturalmente.com/event/curso-de-quiromasaje-general-y-aromaterapia-en-sevilla/
LOCATION:Centro de Formación Naturalmente Sevilla\, Avenida de Hytasa\, 38. Edificio Toledo\, 1\, Planta 1°\, Módulo 10\, SEVILLA\, SEVILLA\, 41006\, España
CATEGORIES:Cursos profesionales
ATTACH;FMTTYPE=image/jpeg:https://www.escuelanaturalmente.com/wp-content/uploads/2023/12/Curso-de-quiromasaj-general.jpg
ORGANIZER;CN="Centro de Formaci%C3%B3n Naturalmente":MAILTO:info@escuelanaturalmente.com
END:VEVENT
BEGIN:VEVENT
DTSTART;TZID=UTC:20240122T090000
DTEND;TZID=UTC:20240122T140000
DTSTAMP:20260423T023243
CREATED:20231205T231058Z
LAST-MODIFIED:20231205T233757Z
UID:159-1705914000-1705932000@www.escuelanaturalmente.com
SUMMARY:Curso de quiromasaje general y aromaterapia en Huelva
DESCRIPTION:¿En qué consiste el curso de quiromasaje general?\nEl curso de quiromasaje general es un curso de 4 meses\, es una formación diseñada para todas aquellas personas que quieran iniciarse en el mundo de las terapias manuales y naturales. \nCon este curso el alumno estará capacitado para poder desarrollar una actividad laboral en balnearios\, spas\, hoteles y centros de terapias naturales. \nNo es necesario tener conocimientos previos para poder realizar esta formación. \nEs un curso teórico-práctico. \nEs un curso también diseñado para continuar tu formación profesional\, puedes incorporarte al curso de quiromasaje general\, convalidando el temario y el dinero invertido. \nAdemás regalamos el curso de aromaterapia\, para su aplicación en el masaje relajante y otras muchas disciplinas naturales. \n  \nNuestro curso de quiromasaje general y aromaterapia en Huelva\nEl curso se realizará de enero a abril (4 meses). \nSe impartirá los lunes en horario de 17:00 a 22:00 o jueves mañana de 9:00 a 14:00\, puedes elegir el día que mejor te convenga\, siempre pudiendo cambiar de grupo de forma puntual o definitiva al otro grupo. \nEl curso comenzará el lunes 22 de enero en horario de mañana y el jueves 25 en horario de mañana \n\nMatrícula 100€\, pero si formalizas antes del 7 de enero de 2024\, tendrás un descuento del 60%\, por lo que se quedaría en 60€. Del 8 al 12 de enero\, el descuento será del 40%\n\n\n\nLas mensualidades son 130€\, pero si estás desempleado o eres familia numerosa tendrás un 10% de descuento en todas las mensualidades.\n\nPlazas limitadas: Por estricto orden de matriculación\n\n\n\n\nPara ver toda la información sobre este curso\, visita nuestra web https://www.escuelanaturalmente.com/cursos/curso-de-quiromasaje-relajante-en-Huelva/\n\nPara más información llámanos o mándanos un whatsapp al 639424470\, también puedes enviarnos un email a info@escuelanaturalmente.com \nTambién puedes seguirnos en FACEBOOK\, INSTAGRAM o X. \nCURSO DE QUIROMASAJE GENERAL HUELVA
URL:https://www.escuelanaturalmente.com/event/curso-de-quiromasaje-general-y-aromaterapia-en-huelva/
LOCATION:Centro de Formación Naturalmente Huelva\, Martín Alonso Pinzón\, 15\, Edificio Parque América. Entreplanta Locales 4 y 5.\, Huelva\, Huelva\, 21003
CATEGORIES:Cursos profesionales
ATTACH;FMTTYPE=image/jpeg:https://www.escuelanaturalmente.com/wp-content/uploads/2023/12/CURSO-DE-QUIROMASAJE-GENERAL-HUELVA.jpg
ORGANIZER;CN="Centro de Formaci%C3%B3n Naturalmente":MAILTO:info@escuelanaturalmente.com
END:VEVENT
BEGIN:VEVENT
DTSTART;TZID=UTC:20240129T090000
DTEND;TZID=UTC:20240129T140000
DTSTAMP:20260423T023243
CREATED:20231201T155229Z
LAST-MODIFIED:20231201T155229Z
UID:96-1706518800-1706536800@www.escuelanaturalmente.com
SUMMARY:Curso de quiromasaje general y aromaterapia en Sevilla
DESCRIPTION:¿En qué consiste el curso de quiromasaje general?\nEl curso de quiromasaje general es un curso de 4 meses\, es una formación diseñada para todas aquellas personas que quieran iniciarse en el mundo de las terapias manuales y naturales. \nCon este curso el alumno estará capacitado para poder desarrollar una actividad laboral en balnearios\, spas\, hoteles y centros de terapias naturales. \nNo es necesario tener conocimientos previos para poder realizar esta formación. \nEs un curso teórico-práctico. \nEs un curso también diseñado para continuar tu formación profesional\, puedes incorporarte al curso de quiromasaje general\, convalidando el temario y el dinero invertido. \nAdemás regalamos el curso de aromaterapia\, para su aplicación en el masaje relajante y otras muchas disciplinas naturales. \n  \nNuestro curso de quiromasaje general en Sevilla\nEl curso se realizará de enero a abril (4 meses). \nSe impartirá los lunes en horario de 9:00 a 14:00 o martes tarde de 17:00 a 22:00\, puedes elegir el día que mejor te convenga\, siempre pudiendo cambiar de grupo de forma puntual o definitiva al otro grupo. \nEl curso comenzará el lunes 22 de enero en horario de mañana y el martes 23 en horario de tarde \n\nMatrícula 100€\, pero si formalizas antes del 7 de enero de 2024\, tendrás un descuento del 60%\, por lo que se quedaría en 60€. Del 8 al 12 de enero\, el descuento será del 40%\n\n\n\nLas mensualidades son 130€\, pero si estás desempleado o eres familia numerosa tendrás un 10% de descuento en todas las mensualidades.\n\nPlazas limitadas: Por estricto orden de matriculación\n\n\n\n\nPara ver toda la información sobre este curso\, visita nuestra web https://www.escuelanaturalmente.com/cursos/curso-de-quiromasaje-relajante-en-sevilla/\n\nPara más información llámanos o mándanos un whatsapp al 639424470\, también puedes enviarnos un email a info@escuelanaturalmente.com \nTambién puedes seguirnos en FACEBOOK\, INSTAGRAM o X. \nCurso de quiromasaje general en Sevilla
URL:https://www.escuelanaturalmente.com/event/curso-de-quiromasaje-general-y-aromaterapia-en-sevilla/
LOCATION:Centro de Formación Naturalmente Sevilla\, Avenida de Hytasa\, 38. Edificio Toledo\, 1\, Planta 1°\, Módulo 10\, SEVILLA\, SEVILLA\, 41006\, España
CATEGORIES:Cursos profesionales
ATTACH;FMTTYPE=image/jpeg:https://www.escuelanaturalmente.com/wp-content/uploads/2023/12/Curso-de-quiromasaj-general.jpg
ORGANIZER;CN="Centro de Formaci%C3%B3n Naturalmente":MAILTO:info@escuelanaturalmente.com
END:VEVENT
BEGIN:VEVENT
DTSTART;TZID=UTC:20240122T090000
DTEND;TZID=UTC:20240122T140000
DTSTAMP:20260423T023243
CREATED:20231205T231058Z
LAST-MODIFIED:20231205T233757Z
UID:159-1705914000-1705932000@www.escuelanaturalmente.com
SUMMARY:Curso de quiromasaje general y aromaterapia en Huelva
DESCRIPTION:¿En qué consiste el curso de quiromasaje general?\nEl curso de quiromasaje general es un curso de 4 meses\, es una formación diseñada para todas aquellas personas que quieran iniciarse en el mundo de las terapias manuales y naturales. \nCon este curso el alumno estará capacitado para poder desarrollar una actividad laboral en balnearios\, spas\, hoteles y centros de terapias naturales. \nNo es necesario tener conocimientos previos para poder realizar esta formación. \nEs un curso teórico-práctico. \nEs un curso también diseñado para continuar tu formación profesional\, puedes incorporarte al curso de quiromasaje general\, convalidando el temario y el dinero invertido. \nAdemás regalamos el curso de aromaterapia\, para su aplicación en el masaje relajante y otras muchas disciplinas naturales. \n  \nNuestro curso de quiromasaje general y aromaterapia en Huelva\nEl curso se realizará de enero a abril (4 meses). \nSe impartirá los lunes en horario de 17:00 a 22:00 o jueves mañana de 9:00 a 14:00\, puedes elegir el día que mejor te convenga\, siempre pudiendo cambiar de grupo de forma puntual o definitiva al otro grupo. \nEl curso comenzará el lunes 22 de enero en horario de mañana y el jueves 25 en horario de mañana \n\nMatrícula 100€\, pero si formalizas antes del 7 de enero de 2024\, tendrás un descuento del 60%\, por lo que se quedaría en 60€. Del 8 al 12 de enero\, el descuento será del 40%\n\n\n\nLas mensualidades son 130€\, pero si estás desempleado o eres familia numerosa tendrás un 10% de descuento en todas las mensualidades.\n\nPlazas limitadas: Por estricto orden de matriculación\n\n\n\n\nPara ver toda la información sobre este curso\, visita nuestra web https://www.escuelanaturalmente.com/cursos/curso-de-quiromasaje-relajante-en-Huelva/\n\nPara más información llámanos o mándanos un whatsapp al 639424470\, también puedes enviarnos un email a info@escuelanaturalmente.com \nTambién puedes seguirnos en FACEBOOK\, INSTAGRAM o X. \nCURSO DE QUIROMASAJE GENERAL HUELVA
URL:https://www.escuelanaturalmente.com/event/curso-de-quiromasaje-general-y-aromaterapia-en-huelva/
LOCATION:Centro de Formación Naturalmente Huelva\, Martín Alonso Pinzón\, 15\, Edificio Parque América. Entreplanta Locales 4 y 5.\, Huelva\, Huelva\, 21003
CATEGORIES:Cursos profesionales
ATTACH;FMTTYPE=image/jpeg:https://www.escuelanaturalmente.com/wp-content/uploads/2023/12/CURSO-DE-QUIROMASAJE-GENERAL-HUELVA.jpg
ORGANIZER;CN="Centro de Formaci%C3%B3n Naturalmente":MAILTO:info@escuelanaturalmente.com
END:VEVENT
END:VCALENDAR