BEGIN:VCALENDAR
VERSION:2.0
PRODID:-//Escuela Naturalmente - ECPv6.15.20//NONSGML v1.0//EN
CALSCALE:GREGORIAN
METHOD:PUBLISH
X-ORIGINAL-URL:https://www.escuelanaturalmente.com
X-WR-CALDESC:Eventos para Escuela Naturalmente
REFRESH-INTERVAL;VALUE=DURATION:PT1H
X-Robots-Tag:noindex
X-PUBLISHED-TTL:PT1H
BEGIN:VTIMEZONE
TZID:UTC
BEGIN:STANDARD
TZOFFSETFROM:+0000
TZOFFSETTO:+0000
TZNAME:UTC
DTSTART:20250101T000000
END:STANDARD
END:VTIMEZONE
BEGIN:VEVENT
DTSTART;TZID=UTC:20260515T100000
DTEND;TZID=UTC:20260515T190000
DTSTAMP:20260423T094504
CREATED:20231220T220931Z
LAST-MODIFIED:20260407T204659Z
UID:222-1778839200-1778871600@www.escuelanaturalmente.com
SUMMARY:Curso de acupuntura profunda miofascial
DESCRIPTION:¿Quieres aprender acupuntura profunda miofascial?\nLa técnica de Acupuntura Profunda Miofascial (APM)\, es una técnica basada en la Medicina Tradicional China (MTC). \nLa Acupuntura Profunda Miofascial (APM) es una de las muchas formas que tiene la acupuntura para tratar las diferentes  funciones que se presentan en humanos y animales. \nEs una técnica en la cual se realiza una punturación en los puntos álgidos miofasciales sin introducir ninguna sustancia química o medicamento\, por lo que estaríamos hablando de un puro estimulo mecánico. \nHoy día esta técnica también es denominada “dry needling” . \nEsta técnica se ha revelado como una técnica muy eficaz para inactivar los PG o puntos álgidos \, así lo demuestran estudios realizados por autores como Lewit y Gunn\, y las experiencias clínicas que nos transmiten otros importantes autores. \n Curso de acupuntura profunda miofascial\n\nEl Curso de Acupuntura profunda miofascial se realizará el sábado 9 de mayo de 2026\n\n\n\nConsta de 8 horas teóricas y prácticas repartidas en el siguiente horario de 10:00 a 14:00 y de 15:00 a 19:00\n\n\n\nAprenderás a utilizar una técnica basada en la Medicina Tradicional China adaptada a técnicas manuales\, por lo que es un curso destinado a terapeutas manuales y colectivo sanitario.\n\n\n\nPara más información o reservas\, llámanos o mándanos un whatsapp al 639424470\, también puedes enviarnos un email a info@escuelanaturalmente.com\n\n\n\nPrecio: 250€\, pero si formalizas la reserva de 60€ antes del 1 de abril de 2026\, tiene un 20% de descuento (200€). \n\n\nPlazas limitadas: 12 alumnos como máximo. \n\n\n\nCURSO DE ACUPUNTURA PROFUNDA MIOFASCIAL\n\n\n\nPara ver toda la información sobre otros cursos\, visita nuestra web escuelanaturalmente.com \nTambién puedes seguirnos en FACEBOOK\, INSTAGRAM o X.
URL:https://www.escuelanaturalmente.com/event/curso-de-acupuntura-profunda-miofascial/
LOCATION:Centro de Formación Naturalmente Huelva\, Martín Alonso Pinzón\, 15\, Edificio Parque América. Entreplanta Locales 4 y 5.\, Huelva\, Huelva\, 21003
CATEGORIES:Seminarios profesionales
ATTACH;FMTTYPE=image/jpeg:https://www.escuelanaturalmente.com/wp-content/uploads/2023/12/1-1.jpg
ORGANIZER;CN="Centro de Formaci%C3%B3n Naturalmente":MAILTO:info@escuelanaturalmente.com
END:VEVENT
END:VCALENDAR